BEGIN:VCALENDAR
VERSION:2.0
PRODID:-//Pfarrei St. Wolfgang Regensburg - ECPv6.15.19//NONSGML v1.0//EN
CALSCALE:GREGORIAN
METHOD:PUBLISH
X-WR-CALNAME:Pfarrei St. Wolfgang Regensburg
X-ORIGINAL-URL:https://www.wolfgangskirche-regensburg.de
X-WR-CALDESC:Veranstaltungen für Pfarrei St. Wolfgang Regensburg
REFRESH-INTERVAL;VALUE=DURATION:PT1H
X-Robots-Tag:noindex
X-PUBLISHED-TTL:PT1H
BEGIN:VTIMEZONE
TZID:Europe/Berlin
BEGIN:DAYLIGHT
TZOFFSETFROM:+0100
TZOFFSETTO:+0200
TZNAME:CEST
DTSTART:20240331T010000
END:DAYLIGHT
BEGIN:STANDARD
TZOFFSETFROM:+0200
TZOFFSETTO:+0100
TZNAME:CET
DTSTART:20241027T010000
END:STANDARD
BEGIN:DAYLIGHT
TZOFFSETFROM:+0100
TZOFFSETTO:+0200
TZNAME:CEST
DTSTART:20250330T010000
END:DAYLIGHT
BEGIN:STANDARD
TZOFFSETFROM:+0200
TZOFFSETTO:+0100
TZNAME:CET
DTSTART:20251026T010000
END:STANDARD
BEGIN:DAYLIGHT
TZOFFSETFROM:+0100
TZOFFSETTO:+0200
TZNAME:CEST
DTSTART:20260329T010000
END:DAYLIGHT
BEGIN:STANDARD
TZOFFSETFROM:+0200
TZOFFSETTO:+0100
TZNAME:CET
DTSTART:20261025T010000
END:STANDARD
END:VTIMEZONE
BEGIN:VEVENT
DTSTART;TZID=Europe/Berlin:20250918T194500
DTEND;TZID=Europe/Berlin:20250918T213000
DTSTAMP:20260423T112424
CREATED:20240717T141208Z
LAST-MODIFIED:20250710T112504Z
UID:6076-1758224700-1758231000@www.wolfgangskirche-regensburg.de
SUMMARY:Probenstart Chorprojekt Patrozinium 2025
DESCRIPTION:Wie auch schon in den letzten Jahren\, laden wir wieder herzlich zur aktiven Teilnahme am Chorprojekt zum Patrozinium unserer Pfarrkirche ein. Auf dem Programm steht in diesem Jahr die beliebte Messe C-Dur „Krönungsmesse“ KV 317 von Wolfgang Amadeus Mozart. Als überregionales Chorprojekt werden in diesem Jahr auch Sängerinnen und Sänger der Chöre von u.a. St. Augustinus Viechtag und St. Michael Donaustauf mit von der Partie sein. Neben der Aufführung am 31.10.2025 (19 Uhr) in St. Wolfgang steht deswegen auch in diesem Jahr eine Aufführung am 19.10.2025 in Viechtach (10 Uhr – Änderung vorbehalten) auf dem Plan. \nProbenstart ist Donnerstag\, der 18. September nach der Abendmesse um 19.45 Uhr. Weitere Informationen bei unserm Kirchenmusiker Thomas Engler.
URL:https://www.wolfgangskirche-regensburg.de/veranstaltung/probenstart-chorprojekt-patrozinium-2025/
LOCATION:Pfarrheim St. Wolfgang\, Bischof-Wittmann-Straße 24c\, Regensburg
CATEGORIES:Kultur,Musik
END:VEVENT
END:VCALENDAR