BEGIN:VCALENDAR
VERSION:2.0
PRODID:-//Pfarrei St. Wolfgang Regensburg - ECPv6.15.19//NONSGML v1.0//EN
CALSCALE:GREGORIAN
METHOD:PUBLISH
X-WR-CALNAME:Pfarrei St. Wolfgang Regensburg
X-ORIGINAL-URL:https://www.wolfgangskirche-regensburg.de
X-WR-CALDESC:Veranstaltungen für Pfarrei St. Wolfgang Regensburg
REFRESH-INTERVAL;VALUE=DURATION:PT1H
X-Robots-Tag:noindex
X-PUBLISHED-TTL:PT1H
BEGIN:VTIMEZONE
TZID:Europe/Berlin
BEGIN:DAYLIGHT
TZOFFSETFROM:+0100
TZOFFSETTO:+0200
TZNAME:CEST
DTSTART:20250330T010000
END:DAYLIGHT
BEGIN:STANDARD
TZOFFSETFROM:+0200
TZOFFSETTO:+0100
TZNAME:CET
DTSTART:20251026T010000
END:STANDARD
BEGIN:DAYLIGHT
TZOFFSETFROM:+0100
TZOFFSETTO:+0200
TZNAME:CEST
DTSTART:20260329T010000
END:DAYLIGHT
BEGIN:STANDARD
TZOFFSETFROM:+0200
TZOFFSETTO:+0100
TZNAME:CET
DTSTART:20261025T010000
END:STANDARD
BEGIN:DAYLIGHT
TZOFFSETFROM:+0100
TZOFFSETTO:+0200
TZNAME:CEST
DTSTART:20270328T010000
END:DAYLIGHT
BEGIN:STANDARD
TZOFFSETFROM:+0200
TZOFFSETTO:+0100
TZNAME:CET
DTSTART:20271031T010000
END:STANDARD
END:VTIMEZONE
BEGIN:VEVENT
DTSTART;TZID=Europe/Berlin:20260301T190000
DTEND;TZID=Europe/Berlin:20260301T210000
DTSTAMP:20260425T000443
CREATED:20251124T162422Z
LAST-MODIFIED:20251124T162422Z
UID:9409-1772391600-1772398800@www.wolfgangskirche-regensburg.de
SUMMARY:Filmgespräch: THE CHOSEN - Abend 7
DESCRIPTION:Komm und sieh (Joh 1\, 46)\nFilmgespräche zur 1.Staffel der Serie THE CHOSEN (Der Auserwählte)\, 8 Abende\nAlle Interessierten sind herzlich eingeladen gemeinsam mit uns an 8 Abenden die erste Staffel von THE CHOSEN anzusehen und anschließend in Kleingruppen über die Filme zu sprechen. \nWann: 8 Sonntagabende um 19.00 Uhr\, ab dem 11.01.2026 \n11.01.2026       Ich habe Dich bei Deinem Namen gerufen \n18.01.2026       Schabbat \n25.01.2026       Jesus liebt alle Kinder \n01.02.2026       Der Fels auf dem sie gebaut wird \n08.02.2026       Das Hochzeitsgeschenk \n22.02.2026       Grenzenloses Mitgefühl \n01.03.2026       Einladungen \n08.03.2026       Ich bin es \nWo: Pfarrheim St. Wolfgang\, Pfarrsaal\, Bischof-Wittmannstr. 24c\, Regensburg \nWeitere Informationen:\nDie Veranstaltung ist kostenlos und in Kooperation mit der KEB Regensburg. \nEine Anmeldung ist nicht notwendig.\nEs besteht die Möglichkeit auch nur an einzelnen Abenden teilzunehmen. \nSchirmherr: Herr Pfarrer Fuchs \nRückfragen bitte an: elmar.berger@wolfgangskirche-regensburg.de \nStWolfgang_THE_CHOSEN-Staffel-1_Filmgespräch
URL:https://www.wolfgangskirche-regensburg.de/veranstaltung/filmgespraech-the-chosen-abend-7/
LOCATION:Pfarrheim St. Wolfgang\, Bischof-Wittmann-Straße 24c\, Regensburg
CATEGORIES:Kath-Kurs
ATTACH;FMTTYPE=image/jpeg:https://www.wolfgangskirche-regensburg.de/wp-content/uploads/2025/11/StWolfgang_THE_CHOSEN-Staffel-1_Filmgespraech.jpg
END:VEVENT
BEGIN:VEVENT
DTSTART;TZID=Europe/Berlin:20260308T190000
DTEND;TZID=Europe/Berlin:20260308T210000
DTSTAMP:20260425T000443
CREATED:20251124T162507Z
LAST-MODIFIED:20251124T162507Z
UID:9410-1772996400-1773003600@www.wolfgangskirche-regensburg.de
SUMMARY:Filmgespräch: THE CHOSEN - Abend 8
DESCRIPTION:Komm und sieh (Joh 1\, 46)\nFilmgespräche zur 1.Staffel der Serie THE CHOSEN (Der Auserwählte)\, 8 Abende\nAlle Interessierten sind herzlich eingeladen gemeinsam mit uns an 8 Abenden die erste Staffel von THE CHOSEN anzusehen und anschließend in Kleingruppen über die Filme zu sprechen. \nWann: 8 Sonntagabende um 19.00 Uhr\, ab dem 11.01.2026 \n11.01.2026       Ich habe Dich bei Deinem Namen gerufen \n18.01.2026       Schabbat \n25.01.2026       Jesus liebt alle Kinder \n01.02.2026       Der Fels auf dem sie gebaut wird \n08.02.2026       Das Hochzeitsgeschenk \n22.02.2026       Grenzenloses Mitgefühl \n01.03.2026       Einladungen \n08.03.2026       Ich bin es \nWo: Pfarrheim St. Wolfgang\, Pfarrsaal\, Bischof-Wittmannstr. 24c\, Regensburg \nWeitere Informationen:\nDie Veranstaltung ist kostenlos und in Kooperation mit der KEB Regensburg. \nEine Anmeldung ist nicht notwendig.\nEs besteht die Möglichkeit auch nur an einzelnen Abenden teilzunehmen. \nSchirmherr: Herr Pfarrer Fuchs \nRückfragen bitte an: elmar.berger@wolfgangskirche-regensburg.de \nStWolfgang_THE_CHOSEN-Staffel-1_Filmgespräch
URL:https://www.wolfgangskirche-regensburg.de/veranstaltung/filmgespraech-the-chosen-abend-8/
LOCATION:Pfarrheim St. Wolfgang\, Bischof-Wittmann-Straße 24c\, Regensburg
CATEGORIES:Kath-Kurs
ATTACH;FMTTYPE=image/jpeg:https://www.wolfgangskirche-regensburg.de/wp-content/uploads/2025/11/StWolfgang_THE_CHOSEN-Staffel-1_Filmgespraech.jpg
END:VEVENT
END:VCALENDAR