BEGIN:VCALENDAR
VERSION:2.0
PRODID:-//Pfarrei St. Wolfgang Regensburg - ECPv6.15.19//NONSGML v1.0//EN
CALSCALE:GREGORIAN
METHOD:PUBLISH
X-ORIGINAL-URL:https://www.wolfgangskirche-regensburg.de
X-WR-CALDESC:Veranstaltungen für Pfarrei St. Wolfgang Regensburg
REFRESH-INTERVAL;VALUE=DURATION:PT1H
X-Robots-Tag:noindex
X-PUBLISHED-TTL:PT1H
BEGIN:VTIMEZONE
TZID:Europe/Berlin
BEGIN:DAYLIGHT
TZOFFSETFROM:+0100
TZOFFSETTO:+0200
TZNAME:CEST
DTSTART:20250330T010000
END:DAYLIGHT
BEGIN:STANDARD
TZOFFSETFROM:+0200
TZOFFSETTO:+0100
TZNAME:CET
DTSTART:20251026T010000
END:STANDARD
BEGIN:DAYLIGHT
TZOFFSETFROM:+0100
TZOFFSETTO:+0200
TZNAME:CEST
DTSTART:20260329T010000
END:DAYLIGHT
BEGIN:STANDARD
TZOFFSETFROM:+0200
TZOFFSETTO:+0100
TZNAME:CET
DTSTART:20261025T010000
END:STANDARD
BEGIN:DAYLIGHT
TZOFFSETFROM:+0100
TZOFFSETTO:+0200
TZNAME:CEST
DTSTART:20270328T010000
END:DAYLIGHT
BEGIN:STANDARD
TZOFFSETFROM:+0200
TZOFFSETTO:+0100
TZNAME:CET
DTSTART:20271031T010000
END:STANDARD
END:VTIMEZONE
BEGIN:VEVENT
DTSTART;TZID=Europe/Berlin:20261115T100000
DTEND;TZID=Europe/Berlin:20261115T110000
DTSTAMP:20260420T123016
CREATED:20250206T204235Z
LAST-MODIFIED:20260129T221856Z
UID:7645-1794736800-1794740400@www.wolfgangskirche-regensburg.de
SUMMARY:Familiengottesdienst im November
DESCRIPTION:Herzliche Einladung zum F a m i l i e n g o t t e s d i e n s t!
URL:https://www.wolfgangskirche-regensburg.de/veranstaltung/familiengottesdienst-im-november/
LOCATION:Kirche St. Wolfgang\, Bischof-Wittmann-Straße 24\, Regensburg
CATEGORIES:Gottesdienst
ATTACH;FMTTYPE=image/jpeg:https://www.wolfgangskirche-regensburg.de/wp-content/uploads/2025/01/Familienmesse_allgemein.jpeg
ORGANIZER;CN="Pfarrei St.Wolfgang Regensburg":MAILTO:pfarramt@wolfgangskirche-regensburg.de
END:VEVENT
BEGIN:VEVENT
DTSTART;TZID=Europe/Berlin:20261213T100000
DTEND;TZID=Europe/Berlin:20261213T110000
DTSTAMP:20260420T123016
CREATED:20250206T204307Z
LAST-MODIFIED:20260129T221801Z
UID:7647-1797156000-1797159600@www.wolfgangskirche-regensburg.de
SUMMARY:Familiengottesdienst im Dezember
DESCRIPTION:Familiengottesdienst am Gaudete-Sonntag \n 
URL:https://www.wolfgangskirche-regensburg.de/veranstaltung/familiengottesdienst-im-dezember/
LOCATION:Kirche St. Wolfgang\, Bischof-Wittmann-Straße 24\, Regensburg
CATEGORIES:Gottesdienst
ATTACH;FMTTYPE=image/jpeg:https://www.wolfgangskirche-regensburg.de/wp-content/uploads/2025/01/Familienmesse_allgemein.jpeg
ORGANIZER;CN="Pfarrei St.Wolfgang Regensburg":MAILTO:pfarramt@wolfgangskirche-regensburg.de
END:VEVENT
END:VCALENDAR