BEGIN:VCALENDAR
VERSION:2.0
PRODID:-//Pfarrei St. Wolfgang Regensburg - ECPv6.15.19//NONSGML v1.0//EN
CALSCALE:GREGORIAN
METHOD:PUBLISH
X-WR-CALNAME:Pfarrei St. Wolfgang Regensburg
X-ORIGINAL-URL:https://www.wolfgangskirche-regensburg.de
X-WR-CALDESC:Veranstaltungen für Pfarrei St. Wolfgang Regensburg
REFRESH-INTERVAL;VALUE=DURATION:PT1H
X-Robots-Tag:noindex
X-PUBLISHED-TTL:PT1H
BEGIN:VTIMEZONE
TZID:Europe/Berlin
BEGIN:DAYLIGHT
TZOFFSETFROM:+0100
TZOFFSETTO:+0200
TZNAME:CEST
DTSTART:20250330T010000
END:DAYLIGHT
BEGIN:STANDARD
TZOFFSETFROM:+0200
TZOFFSETTO:+0100
TZNAME:CET
DTSTART:20251026T010000
END:STANDARD
BEGIN:DAYLIGHT
TZOFFSETFROM:+0100
TZOFFSETTO:+0200
TZNAME:CEST
DTSTART:20260329T010000
END:DAYLIGHT
BEGIN:STANDARD
TZOFFSETFROM:+0200
TZOFFSETTO:+0100
TZNAME:CET
DTSTART:20261025T010000
END:STANDARD
BEGIN:DAYLIGHT
TZOFFSETFROM:+0100
TZOFFSETTO:+0200
TZNAME:CEST
DTSTART:20270328T010000
END:DAYLIGHT
BEGIN:STANDARD
TZOFFSETFROM:+0200
TZOFFSETTO:+0100
TZNAME:CET
DTSTART:20271031T010000
END:STANDARD
END:VTIMEZONE
BEGIN:VEVENT
DTSTART;TZID=Europe/Berlin:20260510T170000
DTEND;TZID=Europe/Berlin:20260510T170000
DTSTAMP:20260425T144118
CREATED:20241218T115437Z
LAST-MODIFIED:20251022T061715Z
UID:7274-1778432400-1778432400@www.wolfgangskirche-regensburg.de
SUMMARY:Muttertagskonzert
DESCRIPTION:Herzliche Einladung zum Muttertagskonzert 2026! Kirchenmusiker Thomas Engler wird einen bunten Strauß Musik von Komponisten des Barock bis in die gemäßigte Moderne an der großen Siemann-Orgel interpretieren. Weitere Informationen folgen im Lauf des Frühjahrs 2026. \nDer Eintritt ist wie immer frei\, um ihre Spende zur Refinanzierung der Konzerte wird gebeten.
URL:https://www.wolfgangskirche-regensburg.de/veranstaltung/muttertagskonzert/
LOCATION:Kirche St. Wolfgang\, Bischof-Wittmann-Straße 24\, Regensburg
CATEGORIES:Kultur,Musik
ATTACH;FMTTYPE=image/jpeg:https://www.wolfgangskirche-regensburg.de/wp-content/uploads/2024/07/Regensburg-St.-Wolfgang-2-scaled-e1720172646527.jpg
END:VEVENT
END:VCALENDAR