BEGIN:VCALENDAR
VERSION:2.0
PRODID:-//Pfarrei St. Wolfgang Regensburg - ECPv6.15.19//NONSGML v1.0//EN
CALSCALE:GREGORIAN
METHOD:PUBLISH
X-WR-CALNAME:Pfarrei St. Wolfgang Regensburg
X-ORIGINAL-URL:https://www.wolfgangskirche-regensburg.de
X-WR-CALDESC:Veranstaltungen für Pfarrei St. Wolfgang Regensburg
REFRESH-INTERVAL;VALUE=DURATION:PT1H
X-Robots-Tag:noindex
X-PUBLISHED-TTL:PT1H
BEGIN:VTIMEZONE
TZID:Europe/Berlin
BEGIN:DAYLIGHT
TZOFFSETFROM:+0100
TZOFFSETTO:+0200
TZNAME:CEST
DTSTART:20250330T010000
END:DAYLIGHT
BEGIN:STANDARD
TZOFFSETFROM:+0200
TZOFFSETTO:+0100
TZNAME:CET
DTSTART:20251026T010000
END:STANDARD
BEGIN:DAYLIGHT
TZOFFSETFROM:+0100
TZOFFSETTO:+0200
TZNAME:CEST
DTSTART:20260329T010000
END:DAYLIGHT
BEGIN:STANDARD
TZOFFSETFROM:+0200
TZOFFSETTO:+0100
TZNAME:CET
DTSTART:20261025T010000
END:STANDARD
BEGIN:DAYLIGHT
TZOFFSETFROM:+0100
TZOFFSETTO:+0200
TZNAME:CEST
DTSTART:20270328T010000
END:DAYLIGHT
BEGIN:STANDARD
TZOFFSETFROM:+0200
TZOFFSETTO:+0100
TZNAME:CET
DTSTART:20271031T010000
END:STANDARD
END:VTIMEZONE
BEGIN:VEVENT
DTSTART;TZID=Europe/Berlin:20260401T173000
DTEND;TZID=Europe/Berlin:20260401T190000
DTSTAMP:20260425T124731
CREATED:20250327T093415Z
LAST-MODIFIED:20251218T143122Z
UID:7903-1775064600-1775070000@www.wolfgangskirche-regensburg.de
SUMMARY:Monatliches Bibelteilen - April
DESCRIPTION:Das monatliche Bibelteilen findet im Vituszimmer des Pfarrheims\, um 17.30 Uhr statt. \nWir sind eine Gruppe Gläubiger und Suchender die sich monatlich zum Bibelteilen treffen.\nAlle Interessierten sind herzlich eingeladen sich einmal im Monat für ca. 1\,5 Stunden zum Gegenseiten Austausch über die Bibel und christliche Themen zu treffen.\nÜblicherweise sprechen wir über das Evangelium des kommenden Sonntags und versuchen dessen konkrete Bedeutung für unser Leben zu verstehen.\nDer Eintritt ist frei. Auf ihr Kommen freut sich der Sachausschuss Erwachsenenbildung.\nBitte Anmeldung über elmar.berger@wolfgangskirche-regensburg.de bzw. über 01515 941 7065
URL:https://www.wolfgangskirche-regensburg.de/veranstaltung/monatliches-bibelteilen-april/
LOCATION:Pfarrheim St. Wolfgang\, Bischof-Wittmann-Straße 24c\, Regensburg
ATTACH;FMTTYPE=image/jpeg:https://www.wolfgangskirche-regensburg.de/wp-content/uploads/2025/03/Monatliches-Bibelteilen-St.Wolfgang.jpeg
END:VEVENT
END:VCALENDAR